BEGIN:VCALENDAR
VERSION:2.0
PRODID:-//time.now/holidays//NONSGML v1.0//EN
BEGIN:VEVENT
UID:7e6bfdc8-f0bd-4604-8db3-d62b28d88844
DTSTAMP:20260422T124328Z
DTSTART;VALUE=DATE:20250512
SUMMARY:Vesak Full Moon Poya Day (Sri Lanka)
END:VEVENT
END:VCALENDAR