BEGIN:VCALENDAR
VERSION:2.0
PRODID:-//time.now/holidays//NONSGML v1.0//EN
BEGIN:VEVENT
UID:8e7a2d6f-a993-4482-a9a4-208c6eaf168d
DTSTAMP:20260422T091010Z
DTSTART;VALUE=DATE:20250414
SUMMARY:Sinhala and Tamil New Year (Sri Lanka)
END:VEVENT
END:VCALENDAR