BEGIN:VCALENDAR
VERSION:2.0
PRODID:-//time.now/holidays//NONSGML v1.0//EN
BEGIN:VEVENT
UID:1c7df100-27d0-47f7-868a-0155fe2b7a4d
DTSTAMP:20260420T215754Z
DTSTART;VALUE=DATE:20250412
SUMMARY:Bak Full Moon Poya Day (Sri Lanka)
END:VEVENT
END:VCALENDAR