BEGIN:VCALENDAR
VERSION:2.0
PRODID:-//time.now/holidays//NONSGML v1.0//EN
BEGIN:VEVENT
UID:96fce814-9a10-4509-8f2e-8988aabf6204
DTSTAMP:20260420T021407Z
DTSTART;VALUE=DATE:20220606
SUMMARY:Whit Monday (Espagne)
END:VEVENT
END:VCALENDAR