BEGIN:VCALENDAR
VERSION:2.0
PRODID:-//time.now/holidays//NONSGML v1.0//EN
BEGIN:VEVENT
UID:2df110b5-79f8-42a9-bf59-258ca3bed78d
DTSTAMP:20260422T122730Z
DTSTART;VALUE=DATE:20220906
SUMMARY:V Centennial of the Circumnavigation of the World (Espagne)
END:VEVENT
END:VCALENDAR