BEGIN:VCALENDAR
VERSION:2.0
PRODID:-//time.now/holidays//NONSGML v1.0//EN
BEGIN:VEVENT
UID:237faec6-a5d4-4dc7-b80b-b1263b9a71d8
DTSTAMP:20260420T081515Z
DTSTART;VALUE=DATE:20260624
SUMMARY:Saint John the Baptist (Espagne)
END:VEVENT
END:VCALENDAR