BEGIN:VCALENDAR
VERSION:2.0
PRODID:-//time.now/holidays//NONSGML v1.0//EN
BEGIN:VEVENT
UID:79f08745-f06a-4e26-a294-b1c62f8bc59c
DTSTAMP:20260421T005743Z
DTSTART;VALUE=DATE:20260915
SUMMARY:Our Lady of the Bien Aparecida (Espagne)
END:VEVENT
END:VCALENDAR