BEGIN:VCALENDAR
VERSION:2.0
PRODID:-//time.now/holidays//NONSGML v1.0//EN
BEGIN:VEVENT
UID:d10f2f92-e773-4d5f-9c43-a2773aa6cbf5
DTSTAMP:20260422T162059Z
DTSTART;VALUE=DATE:20230320
SUMMARY:Monday following Saint Joseph's Day (Espagne)
END:VEVENT
END:VCALENDAR