BEGIN:VCALENDAR
VERSION:2.0
PRODID:-//time.now/holidays//NONSGML v1.0//EN
BEGIN:VEVENT
UID:9e9cfdd1-4d76-4007-ae42-d4002622a134
DTSTAMP:20260420T103059Z
DTSTART;VALUE=DATE:20210816
SUMMARY:Monday following Assumption Day (Espagne)
END:VEVENT
END:VCALENDAR