BEGIN:VCALENDAR
VERSION:2.0
PRODID:-//time.now/holidays//NONSGML v1.0//EN
BEGIN:VEVENT
UID:24e5eae5-b6f4-4e7e-b2bb-fd0e29272d65
DTSTAMP:20260420T215446Z
DTSTART;VALUE=DATE:20260517
SUMMARY:Galician Literature Day (Espagne)
END:VEVENT
END:VCALENDAR