BEGIN:VCALENDAR
VERSION:2.0
PRODID:-//time.now/holidays//NONSGML v1.0//EN
BEGIN:VEVENT
UID:b8fe8742-6821-4c64-94f5-34684feef340
DTSTAMP:20260422T092129Z
DTSTART;VALUE=DATE:20260530
SUMMARY:Day of the Canary Islands (Espagne)
END:VEVENT
END:VCALENDAR