BEGIN:VCALENDAR
VERSION:2.0
PRODID:-//time.now/holidays//NONSGML v1.0//EN
BEGIN:VEVENT
UID:e6ea3eaa-84f0-4658-943a-75145e1db9e8
DTSTAMP:20260420T042916Z
DTSTART;VALUE=DATE:20260604
SUMMARY:Corpus Christi (Espagne)
END:VEVENT
END:VCALENDAR