BEGIN:VCALENDAR
VERSION:2.0
PRODID:-//time.now/holidays//NONSGML v1.0//EN
BEGIN:VEVENT
UID:499fbfc4-9ed9-4ff0-9b88-2e0c0680a985
DTSTAMP:20260420T101717Z
DTSTART;VALUE=DATE:20260228
SUMMARY:Andalusia Day (Espagne)
END:VEVENT
END:VCALENDAR