BEGIN:VCALENDAR
VERSION:2.0
PRODID:-//time.now/holidays//NONSGML v1.0//EN
BEGIN:VEVENT
UID:80ea452c-eb76-430e-b1dd-319bd33204b4
DTSTAMP:20260420T230906Z
DTSTART;VALUE=DATE:20260216
SUMMARY:The day preceding Korean New Year (Corée du Sud)
END:VEVENT
END:VCALENDAR