BEGIN:VCALENDAR
VERSION:2.0
PRODID:-//time.now/holidays//NONSGML v1.0//EN
BEGIN:VEVENT
UID:1da09515-221c-4884-9ca2-4a94fb819b0d
DTSTAMP:20260420T213506Z
DTSTART;VALUE=DATE:20260924
SUMMARY:The day preceding Chuseok (Corée du Sud)
END:VEVENT
END:VCALENDAR