BEGIN:VCALENDAR
VERSION:2.0
PRODID:-//time.now/holidays//NONSGML v1.0//EN
BEGIN:VEVENT
UID:137ba8a0-6262-4d41-bbe7-c4d40e5298b5
DTSTAMP:20260422T083741Z
DTSTART;VALUE=DATE:20261003
SUMMARY:National Foundation Day (Corée du Sud)
END:VEVENT
END:VCALENDAR