BEGIN:VCALENDAR
VERSION:2.0
PRODID:-//time.now/holidays//NONSGML v1.0//EN
BEGIN:VEVENT
UID:1b2c4b2b-4f96-41bb-a21d-04a9e5eb16b2
DTSTAMP:20260420T202434Z
DTSTART;VALUE=DATE:20260524
SUMMARY:Buddha's Birthday (Corée du Sud)
END:VEVENT
END:VCALENDAR