BEGIN:VCALENDAR
VERSION:2.0
PRODID:-//time.now/holidays//NONSGML v1.0//EN
BEGIN:VEVENT
UID:3d00702e-2461-4ec5-9a6b-74b8238c6908
DTSTAMP:20260422T091133Z
DTSTART;VALUE=DATE:20250505
SUMMARY:Buddha's Birthday; Children's Day (Corée du Sud)
END:VEVENT
END:VCALENDAR