BEGIN:VCALENDAR
VERSION:2.0
PRODID:-//time.now/holidays//NONSGML v1.0//EN
BEGIN:VEVENT
UID:ef808b3b-ed79-4988-89a2-8f3e4e355f17
DTSTAMP:20260422T105215Z
DTSTART;VALUE=DATE:20271011
SUMMARY:Alternative holiday for Hangul Day (Corée du Sud)
END:VEVENT
END:VCALENDAR