BEGIN:VCALENDAR
VERSION:2.0
PRODID:-//time.now/holidays//NONSGML v1.0//EN
BEGIN:VEVENT
UID:a0c3eaf9-ed8c-4cdd-9c6c-429c280f4757
DTSTAMP:20260422T192341Z
DTSTART;VALUE=DATE:20260809
SUMMARY:National Women's Day (Afrique du Sud)
END:VEVENT
END:VCALENDAR