BEGIN:VCALENDAR
VERSION:2.0
PRODID:-//time.now/holidays//NONSGML v1.0//EN
BEGIN:VEVENT
UID:9bccd439-4fae-46a3-8420-c93b28ed700d
DTSTAMP:20260422T103920Z
DTSTART;VALUE=DATE:20240529
SUMMARY:National and provincial government elections (Afrique du Sud)
END:VEVENT
END:VCALENDAR