BEGIN:VCALENDAR
VERSION:2.0
PRODID:-//time.now/holidays//NONSGML v1.0//EN
BEGIN:VEVENT
UID:570eda4f-1d98-4ae4-a6ac-c5f1a2a50242
DTSTAMP:20260422T090128Z
DTSTART;VALUE=DATE:20270322
SUMMARY:Human Rights Day (observed) (Afrique du Sud)
END:VEVENT
END:VCALENDAR