BEGIN:VCALENDAR
VERSION:2.0
PRODID:-//time.now/holidays//NONSGML v1.0//EN
BEGIN:VEVENT
UID:6f1615d0-d54a-4255-a258-d58edf04692a
DTSTAMP:20260422T223633Z
DTSTART;VALUE=DATE:20260403
SUMMARY:Good Friday (Afrique du Sud)
END:VEVENT
END:VCALENDAR