BEGIN:VCALENDAR
VERSION:2.0
PRODID:-//time.now/holidays//NONSGML v1.0//EN
BEGIN:VEVENT
UID:45b264a0-e264-41c5-811e-7764df9e574b
DTSTAMP:20260420T215922Z
DTSTART;VALUE=DATE:20260427
SUMMARY:Freedom Day (Afrique du Sud)
END:VEVENT
END:VCALENDAR