BEGIN:VCALENDAR
VERSION:2.0
PRODID:-//time.now/holidays//NONSGML v1.0//EN
BEGIN:VEVENT
UID:d66540e0-ea23-4154-bff8-a51266939a2d
DTSTAMP:20260422T134443Z
DTSTART;VALUE=DATE:20261225
SUMMARY:Christmas Day (Afrique du Sud)
END:VEVENT
END:VCALENDAR