BEGIN:VCALENDAR
VERSION:2.0
PRODID:-//time.now/holidays//NONSGML v1.0//EN
BEGIN:VEVENT
UID:c6a2d8dc-a02b-4a33-9ef1-95375af6e3cd
DTSTAMP:20260422T085940Z
DTSTART;VALUE=DATE:20300607
SUMMARY:Temotu Province Day (observed) (Îles Salomon)
END:VEVENT
END:VCALENDAR