BEGIN:VCALENDAR
VERSION:2.0
PRODID:-//time.now/holidays//NONSGML v1.0//EN
BEGIN:VEVENT
UID:4ca9f37c-c733-484b-a04d-3f89c99f6e49
DTSTAMP:20260421T005746Z
DTSTART;VALUE=DATE:20260720
SUMMARY:Rennell and Bellona Province Day (Îles Salomon)
END:VEVENT
END:VCALENDAR