BEGIN:VCALENDAR
VERSION:2.0
PRODID:-//time.now/holidays//NONSGML v1.0//EN
BEGIN:VEVENT
UID:d4758930-bd58-4799-a7a6-64673756fc15
DTSTAMP:20260420T194527Z
DTSTART;VALUE=DATE:20260101
SUMMARY:New Year's Day (Îles Salomon)
END:VEVENT
END:VCALENDAR