BEGIN:VCALENDAR
VERSION:2.0
PRODID:-//time.now/holidays//NONSGML v1.0//EN
BEGIN:VEVENT
UID:6026bfe6-31d4-4d1f-86d6-5dabaebcccb3
DTSTAMP:20260422T164631Z
DTSTART;VALUE=DATE:20261226
SUMMARY:National Day of Thanksgiving (Îles Salomon)
END:VEVENT
END:VCALENDAR