BEGIN:VCALENDAR
VERSION:2.0
PRODID:-//time.now/holidays//NONSGML v1.0//EN
BEGIN:VEVENT
UID:448658f0-d4ea-47a5-a6fa-89657f7b4100
DTSTAMP:20260420T213415Z
DTSTART;VALUE=DATE:20260815
SUMMARY:Malaita Province Day (Îles Salomon)
END:VEVENT
END:VCALENDAR