BEGIN:VCALENDAR
VERSION:2.0
PRODID:-//time.now/holidays//NONSGML v1.0//EN
BEGIN:VEVENT
UID:7a2afa45-2452-4a3b-9613-b276ec61f135
DTSTAMP:20260422T134408Z
DTSTART;VALUE=DATE:20260814
SUMMARY:Malaita Province Day (observed) (Îles Salomon)
END:VEVENT
END:VCALENDAR