BEGIN:VCALENDAR
VERSION:2.0
PRODID:-//time.now/holidays//NONSGML v1.0//EN
BEGIN:VEVENT
UID:8a8f0e41-5e41-4d93-b1c7-3191863b7db4
DTSTAMP:20260420T215048Z
DTSTART;VALUE=DATE:20290601
SUMMARY:Isabel Province Day (observed) (Îles Salomon)
END:VEVENT
END:VCALENDAR