BEGIN:VCALENDAR
VERSION:2.0
PRODID:-//time.now/holidays//NONSGML v1.0//EN
BEGIN:VEVENT
UID:2c8f92c0-c7f2-42df-b832-13f77ca24149
DTSTAMP:20260420T105840Z
DTSTART;VALUE=DATE:20260404
SUMMARY:Holy Saturday (Îles Salomon)
END:VEVENT
END:VCALENDAR