BEGIN:VCALENDAR
VERSION:2.0
PRODID:-//time.now/holidays//NONSGML v1.0//EN
BEGIN:VEVENT
UID:86738f75-4810-4cc3-be4f-80f038e4c6a7
DTSTAMP:20260422T024617Z
DTSTART;VALUE=DATE:20290226
SUMMARY:Choiseul Province Day (observed) (Îles Salomon)
END:VEVENT
END:VCALENDAR