BEGIN:VCALENDAR
VERSION:2.0
PRODID:-//time.now/holidays//NONSGML v1.0//EN
BEGIN:VEVENT
UID:8e3f2fc0-3a1e-4596-8cd1-49dc97ba87aa
DTSTAMP:20260420T163023Z
DTSTART;VALUE=DATE:20260524
SUMMARY:Whit Sunday (Slovénie)
END:VEVENT
END:VCALENDAR