BEGIN:VCALENDAR
VERSION:2.0
PRODID:-//time.now/holidays//NONSGML v1.0//EN
BEGIN:VEVENT
UID:6e39963a-688b-4bfd-b74d-eaf6e503b6ce
DTSTAMP:20260420T131825Z
DTSTART;VALUE=DATE:20260625
SUMMARY:Statehood Day (Slovénie)
END:VEVENT
END:VCALENDAR