BEGIN:VCALENDAR
VERSION:2.0
PRODID:-//time.now/holidays//NONSGML v1.0//EN
BEGIN:VEVENT
UID:0b27f3a7-8fb7-4113-87ff-afa91518725e
DTSTAMP:20260420T105625Z
DTSTART;VALUE=DATE:20260815
SUMMARY:Assumption Day (Slovénie)
END:VEVENT
END:VCALENDAR