BEGIN:VCALENDAR
VERSION:2.0
PRODID:-//time.now/holidays//NONSGML v1.0//EN
BEGIN:VEVENT
UID:b0192609-1d66-476f-b5a7-79f3f8306a0f
DTSTAMP:20260422T104059Z
DTSTART;VALUE=DATE:20260508
SUMMARY:Day of Victory over Fascism (Slovaquie)
END:VEVENT
END:VCALENDAR