BEGIN:VCALENDAR
VERSION:2.0
PRODID:-//time.now/holidays//NONSGML v1.0//EN
BEGIN:VEVENT
UID:59180e03-9149-4a50-9340-d3341644b1fb
DTSTAMP:20260420T171613Z
DTSTART;VALUE=DATE:20260531
SUMMARY:Vesak Day (Singapour)
END:VEVENT
END:VCALENDAR