BEGIN:VCALENDAR
VERSION:2.0
PRODID:-//time.now/holidays//NONSGML v1.0//EN
BEGIN:VEVENT
UID:2f942d97-2393-4686-a522-43916857e964
DTSTAMP:20260420T162154Z
DTSTART;VALUE=DATE:20330502
SUMMARY:Labor Day (observed) (Singapour)
END:VEVENT
END:VCALENDAR