BEGIN:VCALENDAR
VERSION:2.0
PRODID:-//time.now/holidays//NONSGML v1.0//EN
BEGIN:VEVENT
UID:b29973f5-c097-4a0f-b3c6-a06f5302906a
DTSTAMP:20260420T214705Z
DTSTART;VALUE=DATE:20270309
SUMMARY:Eid al-Fitr (estimated) (Singapour)
END:VEVENT
END:VCALENDAR