BEGIN:VCALENDAR
VERSION:2.0
PRODID:-//time.now/holidays//NONSGML v1.0//EN
BEGIN:VEVENT
UID:ae287c24-8616-4d4c-8818-ede9dbf6899d
DTSTAMP:20260420T184026Z
DTSTART;VALUE=DATE:20260527
SUMMARY:Eid al-Adha (Singapour)
END:VEVENT
END:VCALENDAR