BEGIN:VCALENDAR
VERSION:2.0
PRODID:-//time.now/holidays//NONSGML v1.0//EN
BEGIN:VEVENT
UID:2652a2cc-c3cd-41c7-8be1-dbbb5d82a273
DTSTAMP:20260420T204303Z
DTSTART;VALUE=DATE:20270516
SUMMARY:Eid al-Adha (estimated) (Singapour)
END:VEVENT
END:VCALENDAR