BEGIN:VCALENDAR
VERSION:2.0
PRODID:-//time.now/holidays//NONSGML v1.0//EN
BEGIN:VEVENT
UID:59620193-933f-4bec-b4ec-b382ee8e445c
DTSTAMP:20260420T204111Z
DTSTART;VALUE=DATE:20260825
SUMMARY:Prophet's Birthday (estimated) (Sierra Leone)
END:VEVENT
END:VCALENDAR