BEGIN:VCALENDAR
VERSION:2.0
PRODID:-//time.now/holidays//NONSGML v1.0//EN
BEGIN:VEVENT
UID:ff987ece-08ee-4b92-850f-03386d1fb997
DTSTAMP:20260422T124048Z
DTSTART;VALUE=DATE:20260320
SUMMARY:Eid al-Fitr (estimated) (Sierra Leone)
END:VEVENT
END:VCALENDAR