BEGIN:VCALENDAR
VERSION:2.0
PRODID:-//time.now/holidays//NONSGML v1.0//EN
BEGIN:VEVENT
UID:6c2471e0-9b9c-48f4-853d-16cc34a42bf8
DTSTAMP:20260420T212913Z
DTSTART;VALUE=DATE:20270517
SUMMARY:Eid al-Adha (observed, estimated) (Sierra Leone)
END:VEVENT
END:VCALENDAR