BEGIN:VCALENDAR
VERSION:2.0
PRODID:-//time.now/holidays//NONSGML v1.0//EN
BEGIN:VEVENT
UID:ece8fac3-9f6f-4fc2-bea8-e59cd21b09d6
DTSTAMP:20260420T194727Z
DTSTART;VALUE=DATE:20260527
SUMMARY:Eid al-Adha (estimated) (Sierra Leone)
END:VEVENT
END:VCALENDAR