BEGIN:VCALENDAR
VERSION:2.0
PRODID:-//time.now/holidays//NONSGML v1.0//EN
BEGIN:VEVENT
UID:da4ff5cd-667c-4e12-85f9-18e50bd71868
DTSTAMP:20260420T075348Z
DTSTART;VALUE=DATE:20260218
SUMMARY:Armed Forces Day (Sierra Leone)
END:VEVENT
END:VCALENDAR