BEGIN:VCALENDAR
VERSION:2.0
PRODID:-//time.now/holidays//NONSGML v1.0//EN
BEGIN:VEVENT
UID:e4d217fa-1b60-490b-8796-c82cae7a114c
DTSTAMP:20260420T174758Z
DTSTART;VALUE=DATE:20260629
SUMMARY:Independence (National) Day (Seychelles)
END:VEVENT
END:VCALENDAR