BEGIN:VCALENDAR
VERSION:2.0
PRODID:-//time.now/holidays//NONSGML v1.0//EN
BEGIN:VEVENT
UID:2f96cb7c-a56f-4742-82c4-021566c85e43
DTSTAMP:20260419T214454Z
DTSTART;VALUE=DATE:20260406
SUMMARY:Easter Monday (Seychelles)
END:VEVENT
END:VCALENDAR